Workbook
Name SQ_Meter_To_Sqft: RegulatoryPayment!$J$22

Sheet Home
A15: Assumption
A16: Linked To Other Sheet
A17: Formula: Calc on Same Sheet
A18: Hardcoded Values
A19: Normal Text

Sheet Options
C2: To Choose | D2: 10
C4: Option | D4: 1 | E4: =D4+1 -> 2 | F4: =E4+1 -> 3 | G4: =F4+1 -> 4 | H4: =G4+1 -> 5 | I4: =H4+1 -> 6 | J4: =I4+1 -> 7 | K4: =J4+1 -> 8 | L4: =K4+1 -> 9 | M4: =L4+1 -> 10
C5: UNITS | D5: SPRE | E5: CBRE | F5: MAX | G5: LODHA | H5: OBEROI | I5: ABC | J5: DLF | K5: GHI | L5: KLM | M5: Thomas base case
B6: Project Start Date | D6: 45444 | E6: 45474 | F6: 45505 | G6: 45536 | H6: 45566 | I6: 45597 | J6: 45627 | K6: 45658 | L6: 45689 | M6: 45748
B7: Project Duration | D7: 5 | E7: 5 | F7: 5 | G7: 5 | H7: 5 | I7: 5 | J7: 5 | K7: 5 | L7: 5 | M7: 5
B8: AREA
B9: Residential NILP TDR FAR | D9: 1.25 | E9: 1.25 | F9: 1.25 | G9: 1.25 | H9: 1.25 | I9: 1.25 | J9: 1.25 | K9: 1.25 | L9: 1.25 | M9: 1.25
B10: Residential TOD TDR FAR | D10: 1.5 | E10: 1.5 | F10: 1.5 | G10: 1.5 | H10: 1.5 | I10: 1.5 | J10: 1.5 | K10: 1.5 | L10: 1.5 | M10: 1.5
B11: Commercial NILP TDR FAR | D11: 1.25 | E11: 1.25 | F11: 1.25 | G11: 1.25 | H11: 1.25 | I11: 1.25 | J11: 1.25 | K11: 1.25 | L11: 1.25 | M11: 1.25
B12: Commercial TOD TDR FAR | D12: 1.5 | E12: 1.5 | F12: 1.5 | G12: 1.5 | H12: 1.5 | I12: 1.5 | J12: 1.5 | K12: 1.5 | L12: 1.5 | M12: 1.5
B13: Loading Residential | D13: 0.42 | E13: 0.42 | F13: 0.42 | G13: 0.42 | H13: 0.42 | I13: 0.42 | J13: 0.42 | K13: 0.42 | L13: 0.42 | M13: 0.35
B14: Loading Commercial | D14: 0.6 | E14: 0.6 | F14: 0.6 | G14: 0.6 | H14: 0.6 | I14: 0.6 | J14: 0.6 | K14: 0.6 | L14: 0.6 | M14: 0.35
B16: Apartment | D16: 0.93262512 | E16: 0.93262512 | F16: 0.93262512 | G16: 0.93262512 | H16: 0.93262512 | I16: 0.93262512 | J16: 0.93262512 | K16: 0.93262512 | L16: 0.93262512 | M16: 0.93262512
B17: Club House | D17: 0.025574884 | E17: 0.025574884 | F17: 0.025574884 | G17: 0.025574884 | H17: 0.025574884 | I17: 0.025574884 | J17: 0.025574884 | K17: 0.025574884 | L17: 0.025574884 | M17: 0.025574884
B18: Retail/Commercial | D18: 0.0418 | E18: 0.0418 | F18: 0.0418 | G18: 0.0418 | H18: 0.0418 | I18: 0.0418 | J18: 0.0418 | K18: 0.0418 | L18: 0.0418 | M18: 0.0418
B19: EWS | D19: 0 | E19: 0 | F19: 0 | G19: 0 | H19: 0 | I19: 0 | J19: 0 | K19: 0 | L19: 0 | M19: 0
B20: % of Saleable Area
B21: 2 BHK | D21: 0 | E21: 0 | F21: 0 | G21: 0 | H21: 0 | I21: 0 | J21: 0 | K21: 0 | L21: 0 | M21: 0
B22: 3 BHK | D22: 0.3 | E22: 0.3 | F22: 0.3 | G22: 0.3 | H22: 0.3 | I22: 0.3 | J22: 0.3 | K22: 0.3 | L22: 0.3 | M22: 0.3
B23: 3 BHK + S | D23: 0.4 | E23: 0.4 | F23: 0.4 | G23: 0.4 | H23: 0.4 | I23: 0.4 | J23: 0.4 | K23: 0.4 | L23: 0.4 | M23: 0.4
B24: 4 BHK + S | D24: 0.3 | E24: 0.3 | F24: 0.3 | G24: 0.3 | H24: 0.3 | I24: 0.3 | J24: 0.3 | K24: 0.3 | L24: 0.3 | M24: 0.3
B25: Retail | D25: 0.09 | E25: 0.09 | F25: 0.09 | G25: 0.09 | H25: 0.09 | I25: 0.09 | J25: 0.09 | K25: 0.09 | L25: 0.09 | M25: 0.09
B26: Commercial NILP | D26: 0.26830579 | E26: 0.26830579 | F26: 0.26830579 | G26: 0.26830579 | H26: 0.26830579 | I26: 0.26830579 | J26: 0.26830579 | K26: 0.26830579 | L26: 0.26830579 | M26: 0.26830579
B27: Commercial TOD | D27: 0.64171001 | E27: 0.64171001 | F27: 0.64171001 | G27: 0.64171001 | H27: 0.64171001 | I27: 0.64171001 | J27: 0.64171001 | K27: 0.64171001 | L27: 0.64171001 | M27: 0.64171001
B28: Average Unit size
B29: 2 BHK | D29: 1200 | E29: 1200 | F29: 1200 | G29: 1200 | H29: 1200 | I29: 1200 | J29: 1200 | K29: 1200 | L29: 1200 | M29: 1200
B30: 3 BHK | D30: 1900 | E30: 1900 | F30: 1900 | G30: 1900 | H30: 1900 | I30: 1900 | J30: 1900 | K30: 1900 | L30: 1900 | M30: 1900
B31: 3 BHK + S | D31: 2300 | E31: 2300 | F31: 2300 | G31: 2300 | H31: 2300 | I31: 2300 | J31: 2300 | K31: 2300 | L31: 2300 | M31: 2300
B32: 4 BHK + S | D32: 2900 | E32: 2900 | F32: 2900 | G32: 2900 | H32: 2900 | I32: 2900 | J32: 2900 | K32: 2900 | L32: 2900 | M32: 2900
B33: Retail | D33: 350 | E33: 350 | F33: 350 | G33: 350 | H33: 350 | I33: 350 | J33: 350 | K33: 350 | L33: 350 | M33: 350
B34: Commercial NILP | D34: 350 | E34: 350 | F34: 350 | G34: 350 | H34: 350 | I34: 350 | J34: 350 | K34: 350 | L34: 350 | M34: 350
B35: Commercial TOD | D35: 350 | E35: 350 | F35: 350 | G35: 350 | H35: 350 | I35: 350 | J35: 350 | K35: 350 | L35: 350 | M35: 350
B36: Car Park/ Unit
B37: 2 BHK | D37: 1 | E37: 1 | F37: 1 | G37: 1 | H37: 1 | I37: 1 | J37: 1 | K37: 1 | L37: 1 | M37: 1
B38: 3 BHK | D38: 2 | E38: 2 | F38: 2 | G38: 2 | H38: 2 | I38: 2 | J38: 2 | K38: 2 | L38: 2 | M38: 2
B39: 3 BHK + S | D39: 2 | E39: 2 | F39: 2 | G39: 2 | H39: 2 | I39: 2 | J39: 2 | K39: 2 | L39: 2 | M39: 2
B40: 4 BHK + S | D40: 3 | E40: 3 | F40: 3 | G40: 3 | H40: 3 | I40: 3 | J40: 3 | K40: 3 | L40: 3 | M40: 3
B41: Retail | D41: 1 | E41: 1 | F41: 1 | G41: 1 | H41: 1 | I41: 1 | J41: 1 | K41: 1 | L41: 1 | M41: 1
B42: Commercial NILP | D42: 1 | E42: 1 | F42: 1 | G42: 1 | H42: 1 | I42: 1 | J42: 1 | K42: 1 | L42: 1 | M42: 1
B43: Commercial TOD | D43: 1 | E43: 1 | F43: 1 | G43: 1 | H43: 1 | I43: 1 | J43: 1 | K43: 1 | L43: 1 | M43: 1
...

Sheet Assumptions&Data
B1: Gurgaon 18 Acre Project: Assumptions & Data | F1: {=TRANSPOSE(EOMONTH(D6, _xlfn.SEQUENCE(144)-1))} -> 45777 | G1: 45808 | H1: 45838 | I1: 45869 | J1: 45900 | K1: 45930 | L1: 45961 | M1: 45991 | N1: 46022 | O1: 46053 | P1: 46081 | Q1: 46112 | R1: 46142 | S1: 46173 | T1: 46203 | U1: 46234 | V1: 46265 | W1: 46295 | X1: 46326 | Y1: 46356 | Z1: 46387 | AA1: 46418 | AB1: 46446 | AC1: 46477 | AD1: 46507 | AE1: 46538 | AF1: 46568 | AG1: 46599 | AH1: 46630 | AI1: 46660 | AJ1: 46691 | AK1: 46721 | AL1: 46752 | AM1: 46783 | AN1: 46812 | AO1: 46843 | AP1: 46873 | AQ1: 46904 | AR1: 46934 | AS1: 46965 | AT1: 46996 | AU1: 47026 | AV1: 47057 | AW1: 47087 | AX1: 47118 | AY1: 47149 | AZ1: 47177 | BA1: 47208 | BB1: 47238 | BC1: 47269 | BD1: 47299 | BE1: 47330 | BF1: 47361 | BG1: 47391 | BH1: 47422 | BI1: 47452 | BJ1: 47483 | BK1: 47514 | BL1: 47542 | BM1: 47573 | BN1: 47603 | BO1: 47634 | BP1: 47664 | BQ1: 47695 | BR1: 47726 | BS1: 47756 | BT1: 47787 | BU1: 47817 | BV1: 47848 | BW1: 47879 | BX1: 47907 | BY1: 47938 | BZ1: 47968 | CA1: 47999 | CB1: 48029 | CC1: 48060 | CD1: 48091 | CE1: 48121 | CF1: 48152 | CG1: 48182 | CH1: 48213 | CI1: 48244 | CJ1: 48273 | CK1: 48304 | CL1: 48334 | CM1: 48365 | CN1: 48395 | CO1: 48426 | CP1: 48457 | CQ1: 48487 | CR1: 48518 | CS1: 48548 | CT1: 48579 | CU1: 48610 | CV1: 48638 | CW1: 48669 | CX1: 48699 | CY1: 48730 | CZ1: 48760 | DA1: 48791 | DB1: 48822 | DC1: 48852 | DD1: 48883 | DE1: 48913 | DF1: 48944 | DG1: 48975 | DH1: 49003 | DI1: 49034 | DJ1: 49064 | DK1: 49095 | DL1: 49125 | DM1: 49156 | DN1: 49187 | DO1: 49217 | DP1: 49248 | DQ1: 49278 | DR1: 49309 | DS1: 49340 | DT1: 49368 | DU1: 49399 | DV1: 49429 | DW1: 49460 | DX1: 49490 | DY1: 49521 | DZ1: 49552 | EA1: 49582 | EB1: 49613 | EC1: 49643 | ED1: 49674 | EE1: 49705 | EF1: 49734 | EG1: 49765 | EH1: 49795 | EI1: 49826 | EJ1: 49856 | EK1: 49887 | EL1: 49918 | EM1: 49948 | EN1: 49979 | EO1: 50009 | EP1: 50040 | EQ1: 50071 | ER1: 50099 | ES1: 50130
F2: {=TRANSPOSE(_xlfn.SEQUENCE(144, 1, 0, 1))} -> 0 | G2: 1 | H2: 2 | I2: 3 | J2: 4 | K2: 5 | L2: 6 | M2: 7 | N2: 8 | O2: 9 | P2: 10 | Q2: 11 | R2: 12 | S2: 13 | T2: 14 | U2: 15 | V2: 16 | W2: 17 | X2: 18 | Y2: 19 | Z2: 20 | AA2: 21 | AB2: 22 | AC2: 23 | AD2: 24 | AE2: 25 | AF2: 26 | AG2: 27 | AH2: 28 | AI2: 29 | AJ2: 30 | AK2: 31 | AL2: 32 | AM2: 33 | AN2: 34 | AO2: 35 | AP2: 36 | AQ2: 37 | AR2: 38 | AS2: 39 | AT2: 40 | AU2: 41 | AV2: 42 | AW2: 43 | AX2: 44 | AY2: 45 | AZ2: 46 | BA2: 47 | BB2: 48 | BC2: 49 | BD2: 50 | BE2: 51 | BF2: 52 | BG2: 53 | BH2: 54 | BI2: 55 | BJ2: 56 | BK2: 57 | BL2: 58 | BM2: 59 | BN2: 60 | BO2: 61 | BP2: 62 | BQ2: 63 | BR2: 64 | BS2: 65 | BT2: 66 | BU2: 67 | BV2: 68 | BW2: 69 | BX2: 70 | BY2: 71 | BZ2: 72 | CA2: 73 | CB2: 74 | CC2: 75 | CD2: 76 | CE2: 77 | CF2: 78 | CG2: 79 | CH2: 80 | CI2: 81 | CJ2: 82 | CK2: 83 | CL2: 84 | CM2: 85 | CN2: 86 | CO2: 87 | CP2: 88 | CQ2: 89 | CR2: 90 | CS2: 91 | CT2: 92 | CU2: 93 | CV2: 94 | CW2: 95 | CX2: 96 | CY2: 97 | CZ2: 98 | DA2: 99 | DB2: 100 | DC2: 101 | DD2: 102 | DE2: 103 | DF2: 104 | DG2: 105 | DH2: 106 | DI2: 107 | DJ2: 108 | DK2: 109 | DL2: 110 | DM2: 111 | DN2: 112 | DO2: 113 | DP2: 114 | DQ2: 115 | DR2: 116 | DS2: 117 | DT2: 118 | DU2: 119 | DV2: 120 | DW2: 121 | DX2: 122 | DY2: 123 | DZ2: 124 | EA2: 125 | EB2: 126 | EC2: 127 | ED2: 128 | EE2: 129 | EF2: 130 | EG2: 131 | EH2: 132 | EI2: 133 | EJ2: 134 | EK2: 135 | EL2: 136 | EM2: 137 | EN2: 138 | EO2: 139 | EP2: 140 | EQ2: 141 | ER2: 142 | ES2: 143
B5: Particulars | C5: Unit | D5: Value | N5: Total unit as per are calc | Q5: Timeline
B6: Project Start Date | D6: =IF(Options!$D$2=Options!$D$4,Options!D6,IF(Options!$D$2=Options!$E$4,Options!E6,IF(Options!$D$2=Options!$F$4,Options!F6,IF(Options!$D$2=Options!$G$4,Options!G6,IF(Options!$D$2=Options!$H$4,Options!H6,IF(Options!$D$2=Options!$I$4,Options!I6,IF(Options!$D$2=Options!$J$4,Options!J6,IF(Options!$D$2=Options!$K$4,Options!K6,IF(Options!$D$2=Options!$L$4,Options!L6,IF(Options!$D$2=Options!$M$4,Options!M6,0)))))))))) -> 45748 | N6: Floor count | O6: =Schedule!D12/O9 -> 20.31083
B7: LOI Date | D7: =EOMONTH(D6, 3) -> 45869 | N7: Unit Per Floor | O7: 4
B8: License Date | C8: Date | D8: =EOMONTH(D6, 6) -> 45961 | N8: Total No. of Towers | O8: 15
B9: Construction Start Date | C9: Date | D9: =EOMONTH(D8, 2) -> 46022 | E9: Note - Project start date refering to construction has been started and will be ended when project ended. | N9: Total Unit Per Floor | O9: =O8*O7 -> 60
B10: Project End Date | C10: Date | D10: =EOMONTH(D9, D11*12) -> 47848 | N10: Basement | O10: 2 | Q10: 1.5 Years
B11: Project Duration | C11: Year | D11: =IF(Options!$D$2=Options!$D$4,Options!D7,IF(Options!$D$2=Options!$E$4,Options!E7,IF(Options!$D$2=Options!$F$4,Options!F7,IF(Options!$D$2=Options!$G$4,Options!G7,IF(Options!$D$2=Options!$H$4,Options!H7,IF(Options!$D$2=Options!$I$4,Options!I7,IF(Options!$D$2=Options!$J$4,Options!J7,IF(Options!$D$2=Options!$K$4,Options!K7,IF(Options!$D$2=Options!$L$4,Options!L7,IF(Options!$D$2=Options!$M$4,Options!M7,0)))))))))) -> 5 | N11: Ground Floor | Q11: 1 Month
B12: TDR Tranche I Purchase Date | C12: Date | D12: =EOMONTH(D9, 12) -> 46387 | N12: Need to complete per floor | O12: 1.5 Months
B13: TDR Tranche I Purchase Date | C13: Date | D13: =EOMONTH(D12, 6) -> 46568
B14: GST | C14: # | D14: 1.18 | N14: Basement Area Calc | O14: =(H33+H42)*43560*25% -> 159949.49
B15: Sqft. In One Acre | D15: 43560 | O15: Sum of residential area * 25%
B16: Sq. mtr. In One Acre | D16: 4046.86
B17: Sq ft. in One sq. mtr. | D17: 10.764
B20: Area Calculation
B22: =IF(D22=1, "Convert sqft. to sqm.","Convert sqm. to sqft.") -> Convert sqft. to sqm. | D22: 1 | G22: Particulars | H22: TOD Land | I22: NILP Land | K22: IF(Options!$C$106="Option I", ('Assumptions&Data'!D194/4046.8), 0)
G23: Parcel A | H23: 0 | I23: 5.459
B24: Site Area Calculation | C24: Value (acre) | D24: =IF(D22=1, "Value (sq.ft.)", "Value sqm.") -> Value (sq.ft.) | G24: Parcel B | H24: 8.481 | I24: 2.36
B25: Gross Land | C25: =SUM(H26, I26) -> 18.069 | D25: =(C25*D15)/$D$22 -> 787085.64 | G25: Parcel C | H25: 1.744 | I25: 0.025
B26: Net Land | C26: =C25 -> 18.069 | D26: =(C26*D15)/$D$22 -> 787085.64 | G26: Total | H26: =SUM(H23:H25) -> 10.225 | I26: =SUM(I23:I25)+IF(Options!$C$106="Option I", ('Assumptions&Data'!D194/4046.8), 0) -> 7.844
B27: Land Under TOD Zone | C27: =H26 -> 10.225 | D27: =(C27*D15)/$D$22 -> 445401
B28: Land Under Non-TOD Zone | C28: =I26 -> 7.844 | D28: =(C28*D15)/$D$22 -> 341684.64
B30: NILP Commercial | D30: =IF(Options!$D$2=Options!$D$4,Options!D102,IF(Options!$D$2=Options!$E$4,Options!E102,IF(Options!$D$2=Options!$F$4,Options!F102,IF(Options!$D$2=Options!$G$4,Options!G102,IF(Options!$D$2=Options!$H$4,Options!H102,IF(Options!$D$2=Options!$I$4,Options!I102,IF(Options!$D$2=Options!$J$4,Options!J102,IF(Options!$D$2=Options!$K$4,Options!K102,IF(Options!$D$2=Options!$L$4,Options!L102,IF(Options!$D$2=Options!$M$4,Options!M102,0)))))))))) -> 0.04 | G30: TOD
B31: TOD Commercial | D31: =IF(Options!$D$2=Options!$D$4,Options!D103,IF(Options!$D$2=Options!$E$4,Options!E103,IF(Options!$D$2=Options!$F$4,Options!F103,IF(Options!$D$2=Options!$G$4,Options!G103,IF(Options!$D$2=Options!$H$4,Options!H103,IF(Options!$D$2=Options!$I$4,Options!I103,IF(Options!$D$2=Options!$J$4,Options!J103,IF(Options!$D$2=Options!$K$4,Options!K103,IF(Options!$D$2=Options!$L$4,Options!L103,IF(Options!$D$2=Options!$M$4,Options!M103,0)))))))))) -> 0.3 | H31: Residential | L31: Commercial
H32: Value | I32: Unit | J32: sqm. | K32: sqft | L32: Value | M32: Unit | N32: sqm. | O32: sqft
B33: Category | D33: Value (sqft.) | G33: Site Area | H33: =C27*(1-D31) -> 7.1575 | I33: Acre | J33: =H33*D16 -> 28965.4 | K33: =J33*$D$17 -> 311783.57 | L33: =C27*D31 -> 3.0675 | M33: Acre | N33: =L33*D16 -> 12413.743 | O33: =N33*$D$17 -> 133621.53
B34: NILP - Residential incl. TDR | D34: =K46 -> 859413.12 | G34: FAR | H34: 2.5 | I34: % | J34: =J33*H34 -> 72413.501 | K34: =J34*$D$17 -> 779458.93 | L34: 2.5 | M34: % | N34: =N33*L34 -> 31034.358 | O34: =N34*$D$17 -> 334053.83
B35: NILP - Commercial incl. TDR | D35: =O46 -> 42642.636 | G35: TDR FAR | H35: =IF(Options!$D$2=Options!$D$4,Options!D10,IF(Options!$D$2=Options!$E$4,Options!E10,IF(Options!$D$2=Options!$F$4,Options!F10,IF(Options!$D$2=Options!$G$4,Options!G10,IF(Options!$D$2=Options!$H$4,Options!H10,IF(Options!$D$2=Options!$I$4,Options!I10,IF(Options!$D$2=Options!$J$4,Options!J10,IF(Options!$D$2=Options!$K$4,Options!K10,IF(Options!$D$2=Options!$L$4,Options!L10,IF(Options!$D$2=Options!$M$4,Options!M10,0)))))))))) -> 1.5 | I35: % | J35: =J33*H35 -> 43448.101 | K35: =J35*$D$17 -> 467675.36 | L35: =IF(Options!$D$2=Options!$D$4,Options!D12,IF(Options!$D$2=Options!$E$4,Options!E12,IF(Options!$D$2=Options!$F$4,Options!F12,IF(Options!$D$2=Options!$G$4,Options!G12,IF(Options!$D$2=Options!$H$4,Options!H12,IF(Options!$D$2=Options!$I$4,Options!I12,IF(Options!$D$2=Options!$J$4,Options!J12,IF(Options!$D$2=Options!$K$4,Options!K12,IF(Options!$D$2=Options!$L$4,Options!L12,IF(Options!$D$2=Options!$M$4,Options!M12,0)))))))))) -> 1.5 | M35: % | N35: =N33*L35 -> 18620.615 | O35: =N35*$D$17 -> 200432.3
B36: TOD - Residential incl. TDR | D36: =K37 -> 1284548.3 | G36: GRIHA | H36: 0.12 | I36: % | J36: =J33*H36 -> 3475.8481 | K36: =J36*$D$17 -> 37414.028 | L36: 0.12 | M36: % | N36: =N33*L36 -> 1489.6492 | O36: =N36*$D$17 -> 16034.584
B37: TOD - Commercial incl. TDR | D37: =O37 -> 550520.7 | G37: Total | H37: =SUM(H34:H36) -> 4.12 | J37: =SUM(J34:J36) -> 119337.45 | K37: =SUM(K34:K36) -> 1284548.3 | L37: =SUM(L34:L36) -> 4.12 | N37: =SUM(N34:N36) -> 51144.621 | O37: =SUM(O34:O36) -> 550520.7
B39: Total Residential (including club) | D39: =D34+D36 -> 2143961.4 | G39: NILP
B40: Total Commercial | D40: =D35+D37 -> 593163.34 | H40: Residential | L40: Commercial
B41: Total | D41: =SUM(D39:D40) -> 2737124.8 | H41: Value | I41: Unit | J41: sqm. | K41: sqft | L41: Value | M41: Unit | N41: sqm. | O41: sqft
G42: Site Area | H42: =C28*(1-D30) -> 7.53024 | I42: Acre | J42: =H42*D16 -> 30473.827 | K42: =J42*$D$17 -> 328020.27 | L42: =C28*D30 -> 0.31376 | M42: Acre | N42: =L42*D16 -> 1269.7428 | O42: =N42*$D$17 -> 13667.511
B43: Particular | C43: Unit | D43: Value | G43: FAR | H43: 1.25 | I43: % | J43: =J42*H43 -> 38092.284 | K43: =J43*$D$17 -> 410025.34 | L43: 1.75 | M43: % | N43: =N42*L43 -> 2222.0499 | O43: =N43*$D$17 -> 23918.145
B44: Average FAR | C44: FAR | D44: =D41/C26/D15 -> 3.4775438 | G44: TDR FAR | H44: =IF(Options!$D$2=Options!$D$4,Options!D9,IF(Options!$D$2=Options!$E$4,Options!E9,IF(Options!$D$2=Options!$F$4,Options!F9,IF(Options!$D$2=Options!$G$4,Options!G9,IF(Options!$D$2=Options!$H$4,Options!H9,IF(Options!$D$2=Options!$I$4,Options!I9,IF(Options!$D$2=Options!$J$4,Options!J9,IF(Options!$D$2=Options!$K$4,Options!K9,IF(Options!$D$2=Options!$L$4,Options!L9,IF(Options!$D$2=Options!$M$4,Options!M9,0)))))))))) -> 1.25 | I44: % | J44: =J42*H44 -> 38092.284 | K44: =J44*$D$17 -> 410025.34 | L44: =IF(Options!$D$2=Options!$D$4,Options!D11,IF(Options!$D$2=Options!$E$4,Options!E11,IF(Options!$D$2=Options!$F$4,Options!F11,IF(Options!$D$2=Options!$G$4,Options!G11,IF(Options!$D$2=Options!$H$4,Options!H11,IF(Options!$D$2=Options!$I$4,Options!I11,IF(Options!$D$2=Options!$J$4,Options!J11,IF(Options!$D$2=Options!$K$4,Options!K11,IF(Options!$D$2=Options!$L$4,Options!L11,IF(Options!$D$2=Options!$M$4,Options!M11,0)))))))))) -> 1.25 | M44: % | N44: =N42*L44 -> 1587.1785 | O44: =N44*$D$17 -> 17084.389
B45: Area | C45: Acre | D45: =C26 -> 18.069 | G45: GRIHA | H45: 0.12 | I45: % | J45: =J42*H45 -> 3656.8592 | K45: =J45*$D$17 -> 39362.433 | L45: 0.12 | M45: % | N45: =N42*L45 -> 152.36914 | O45: =N45*$D$17 -> 1640.1014
B46: Total FSI | C46: FSI | D46: =D45*D44*D15 -> 2737124.8 | G46: Total | H46: =SUM(H43:H45) -> 2.62 | J46: =SUM(J43:J45) -> 79841.427 | K46: =SUM(K43:K45) -> 859413.12 | L46: =SUM(L43:L45) -> 3.12 | N46: =SUM(N43:N45) -> 3961.5975 | O46: =SUM(O43:O45) -> 42642.636
B47: Base FAR | C47: FAR | D47: =AVERAGE(H43, L43, H34, L34) -> 2
...

Sheet Schedule
B1: Gurgaon 18 Acre Project: Schedule | F1: ='Assumptions&Data'!D6 -> 45748 | G1: =EOMONTH(F1, 1) -> 45808 | H1: =EOMONTH(G1, 1) -> 45838 | I1: =EOMONTH(H1, 1) -> 45869 | J1: =EOMONTH(I1, 1) -> 45900 | K1: =EOMONTH(J1, 1) -> 45930 | L1: =EOMONTH(K1, 1) -> 45961 | M1: =EOMONTH(L1, 1) -> 45991 | N1: =EOMONTH(M1, 1) -> 46022 | ... FO1: =EOMONTH(FN1, 1) -> 50801
B3: Particulars | C3: Units | D3: Total | E3: Per sqft. Of apartment area
B6: Project Start Date | D6: ='Assumptions&Data'!D6 -> 45748
A7: 0 | B7: EDC-IDC Recover Rate | C7: psf. | D7: =(RegulatoryPayment!B62+RegulatoryPayment!B59+RegulatoryPayment!B74+RegulatoryPayment!B76)*10^7/'Assumptions&Data'!$C$57 -> 504.81136
B10: Residential & Commercial Unit Count
B12: Residential Unit Count | C12: # | D12: =SUM(I31:I34) -> 1218.6498
B13: Commercial Unit Count | C13: # | D13: =SUM(I35:I37) -> 2287.9519
B14: Total Units | D14: =SUM(D12:D13) -> 3506.6017
B15: Car Parking Count - Residential | C15: # | D15: =SUM(M31:M34) -> 2726.9388
B16: Car Parking Count - Commercial | C16: # | D16: =SUM(M35:M37) -> 2287.9519
B17: Total Car Park | D17: =SUM(D15:D16) -> 5014.8907
B19: Category Area Calculation
B21: Product | F21: % of Available Total FSI | G21: FSI Available (sq. ft.) | H21: Saleable Area Loading | I21: Saleable Area Sq. Ft. | J21: Construction Area Loading | K21: Contruction Area
B22: Apartment | F22: =IF(Options!$D$2=Options!$D$4,Options!D16,IF(Options!$D$2=Options!$E$4,Options!E16,IF(Options!$D$2=Options!$F$4,Options!F16,IF(Options!$D$2=Options!$G$4,Options!G16,IF(Options!$D$2=Options!$H$4,Options!H16,IF(Options!$D$2=Options!$I$4,Options!I16,IF(Options!$D$2=Options!$J$4,Options!J16,IF(Options!$D$2=Options!$K$4,Options!K16,IF(Options!$D$2=Options!$L$4,Options!L16,IF(Options!$D$2=Options!$M$4,Options!M16,0)))))))))) -> 0.93262512 | G22: ='Assumptions&Data'!D39-Schedule!G23 -> 2073959.8 | H22: ='Assumptions&Data'!D50 -> 0.35 | I22: ='Assumptions&Data'!C54 -> 2799845.7 | J22: 0.94 | K22: =I22*J22 -> 2631855
B23: Club House | F23: =IF(Options!$D$2=Options!$D$4,Options!D17,IF(Options!$D$2=Options!$E$4,Options!E17,IF(Options!$D$2=Options!$F$4,Options!F17,IF(Options!$D$2=Options!$G$4,Options!G17,IF(Options!$D$2=Options!$H$4,Options!H17,IF(Options!$D$2=Options!$I$4,Options!I17,IF(Options!$D$2=Options!$J$4,Options!J17,IF(Options!$D$2=Options!$K$4,Options!K17,IF(Options!$D$2=Options!$L$4,Options!L17,IF(Options!$D$2=Options!$M$4,Options!M17,0)))))))))) -> 0.025574884 | G23: =F23*'Assumptions&Data'!$D$46 -> 70001.649 | J23: 1.1 | K23: =G23*J23 -> 77001.814
B24: Retail/Commercial | F24: =IF(Options!$D$2=Options!$D$4,Options!D18,IF(Options!$D$2=Options!$E$4,Options!E18,IF(Options!$D$2=Options!$F$4,Options!F18,IF(Options!$D$2=Options!$G$4,Options!G18,IF(Options!$D$2=Options!$H$4,Options!H18,IF(Options!$D$2=Options!$I$4,Options!I18,IF(Options!$D$2=Options!$J$4,Options!J18,IF(Options!$D$2=Options!$K$4,Options!K18,IF(Options!$D$2=Options!$L$4,Options!L18,IF(Options!$D$2=Options!$M$4,Options!M18,0)))))))))) -> 0.0418 | G24: ='Assumptions&Data'!D40 -> 593163.34 | H24: ='Assumptions&Data'!D51 -> 0.35 | I24: ='Assumptions&Data'!C56 -> 800770.51 | J24: 1 | K24: =I24*J24 -> 800770.51
B25: EWS | F25: 0 | G25: 0 | I25: =G25*(1+H25) -> 0 | J25: 0 | K25: =I25*J25 -> 0
G26: =SUM(G22:G24) -> 2737124.8 | I26: =SUM(I22:I25) -> 3600616.2 | K26: =SUM(K22:K25) -> 3509627.3
B28: Product Mix - Product
B30: Product Name | F30: % of saleable area | G30: Area (sq. ft.) | H30: Avg. Size Sq. Ft. | I30: Unit (#) | J30: Car Park / Unit | K30: Car Park Avg. Area (Sq. ft.) | L30: Car Park Area (Sq. ft.) | M30: Car Park (#) | N30: Construction Area (sqft.) | O30: Construction Jnc.
B31: 2 BHK | D31: =I31 -> 0 | F31: =IF(Options!$D$2=Options!$D$4,Options!D21,IF(Options!$D$2=Options!$E$4,Options!E21,IF(Options!$D$2=Options!$F$4,Options!F21,IF(Options!$D$2=Options!$G$4,Options!G21,IF(Options!$D$2=Options!$H$4,Options!H21,IF(Options!$D$2=Options!$I$4,Options!I21,IF(Options!$D$2=Options!$J$4,Options!J21,IF(Options!$D$2=Options!$K$4,Options!K21,IF(Options!$D$2=Options!$L$4,Options!L21,IF(Options!$D$2=Options!$M$4,Options!M21,0)))))))))) -> 0 | G31: =$I$22*F31 -> 0 | H31: =IF(Options!$D$2=Options!$D$4,Options!D29,IF(Options!$D$2=Options!$E$4,Options!E29,IF(Options!$D$2=Options!$F$4,Options!F29,IF(Options!$D$2=Options!$G$4,Options!G29,IF(Options!$D$2=Options!$H$4,Options!H29,IF(Options!$D$2=Options!$I$4,Options!I29,IF(Options!$D$2=Options!$J$4,Options!J29,IF(Options!$D$2=Options!$K$4,Options!K29,IF(Options!$D$2=Options!$L$4,Options!L29,IF(Options!$D$2=Options!$M$4,Options!M29,0)))))))))) -> 1200 | I31: =G31/H31 -> 0 | J31: =IF(Options!$D$2=Options!$D$4,Options!D37,IF(Options!$D$2=Options!$E$4,Options!E37,IF(Options!$D$2=Options!$F$4,Options!F37,IF(Options!$D$2=Options!$G$4,Options!G37,IF(Options!$D$2=Options!$H$4,Options!H37,IF(Options!$D$2=Options!$I$4,Options!I37,IF(Options!$D$2=Options!$J$4,Options!J37,IF(Options!$D$2=Options!$K$4,Options!K37,IF(Options!$D$2=Options!$L$4,Options!L37,IF(Options!$D$2=Options!$M$4,Options!M37,0)))))))))) -> 1 | K31: 425 | L31: =K31*M31 -> 0 | M31: =I31*J31 -> 0 | N31: =F31*$K$22 -> 0 | O31: =N31+L31 -> 0
B32: 3 BHK | D32: =I32 -> 442.0809 | F32: =IF(Options!$D$2=Options!$D$4,Options!D22,IF(Options!$D$2=Options!$E$4,Options!E22,IF(Options!$D$2=Options!$F$4,Options!F22,IF(Options!$D$2=Options!$G$4,Options!G22,IF(Options!$D$2=Options!$H$4,Options!H22,IF(Options!$D$2=Options!$I$4,Options!I22,IF(Options!$D$2=Options!$J$4,Options!J22,IF(Options!$D$2=Options!$K$4,Options!K22,IF(Options!$D$2=Options!$L$4,Options!L22,IF(Options!$D$2=Options!$M$4,Options!M22,0)))))))))) -> 0.3 | G32: =$I$22*F32 -> 839953.71 | H32: =IF(Options!$D$2=Options!$D$4,Options!D30,IF(Options!$D$2=Options!$E$4,Options!E30,IF(Options!$D$2=Options!$F$4,Options!F30,IF(Options!$D$2=Options!$G$4,Options!G30,IF(Options!$D$2=Options!$H$4,Options!H30,IF(Options!$D$2=Options!$I$4,Options!I30,IF(Options!$D$2=Options!$J$4,Options!J30,IF(Options!$D$2=Options!$K$4,Options!K30,IF(Options!$D$2=Options!$L$4,Options!L30,IF(Options!$D$2=Options!$M$4,Options!M30,0)))))))))) -> 1900 | I32: =G32/H32 -> 442.0809 | J32: =IF(Options!$D$2=Options!$D$4,Options!D38,IF(Options!$D$2=Options!$E$4,Options!E38,IF(Options!$D$2=Options!$F$4,Options!F38,IF(Options!$D$2=Options!$G$4,Options!G38,IF(Options!$D$2=Options!$H$4,Options!H38,IF(Options!$D$2=Options!$I$4,Options!I38,IF(Options!$D$2=Options!$J$4,Options!J38,IF(Options!$D$2=Options!$K$4,Options!K38,IF(Options!$D$2=Options!$L$4,Options!L38,IF(Options!$D$2=Options!$M$4,Options!M38,0)))))))))) -> 2 | K32: 425 | L32: =K32*M32 -> 375768.77 | M32: =I32*J32 -> 884.1618 | N32: =F32*$K$22 -> 789556.49 | O32: =N32+L32 -> 1165325.3
B33: 3 BHK + S | D33: =I33 -> 486.92969 | F33: =IF(Options!$D$2=Options!$D$4,Options!D23,IF(Options!$D$2=Options!$E$4,Options!E23,IF(Options!$D$2=Options!$F$4,Options!F23,IF(Options!$D$2=Options!$G$4,Options!G23,IF(Options!$D$2=Options!$H$4,Options!H23,IF(Options!$D$2=Options!$I$4,Options!I23,IF(Options!$D$2=Options!$J$4,Options!J23,IF(Options!$D$2=Options!$K$4,Options!K23,IF(Options!$D$2=Options!$L$4,Options!L23,IF(Options!$D$2=Options!$M$4,Options!M23,0)))))))))) -> 0.4 | G33: =$I$22*F33 -> 1119938.3 | H33: =IF(Options!$D$2=Options!$D$4,Options!D31,IF(Options!$D$2=Options!$E$4,Options!E31,IF(Options!$D$2=Options!$F$4,Options!F31,IF(Options!$D$2=Options!$G$4,Options!G31,IF(Options!$D$2=Options!$H$4,Options!H31,IF(Options!$D$2=Options!$I$4,Options!I31,IF(Options!$D$2=Options!$J$4,Options!J31,IF(Options!$D$2=Options!$K$4,Options!K31,IF(Options!$D$2=Options!$L$4,Options!L31,IF(Options!$D$2=Options!$M$4,Options!M31,0)))))))))) -> 2300 | I33: =G33/H33 -> 486.92969 | J33: =IF(Options!$D$2=Options!$D$4,Options!D39,IF(Options!$D$2=Options!$E$4,Options!E39,IF(Options!$D$2=Options!$F$4,Options!F39,IF(Options!$D$2=Options!$G$4,Options!G39,IF(Options!$D$2=Options!$H$4,Options!H39,IF(Options!$D$2=Options!$I$4,Options!I39,IF(Options!$D$2=Options!$J$4,Options!J39,IF(Options!$D$2=Options!$K$4,Options!K39,IF(Options!$D$2=Options!$L$4,Options!L39,IF(Options!$D$2=Options!$M$4,Options!M39,0)))))))))) -> 2 | K33: 425 | L33: =K33*M33 -> 413890.23 | M33: =I33*J33 -> 973.85938 | N33: =F33*$K$22 -> 1052742 | O33: =N33+L33 -> 1466632.2
B34: 4 BHK + S | D34: =I34 -> 289.63921 | F34: =IF(Options!$D$2=Options!$D$4,Options!D24,IF(Options!$D$2=Options!$E$4,Options!E24,IF(Options!$D$2=Options!$F$4,Options!F24,IF(Options!$D$2=Options!$G$4,Options!G24,IF(Options!$D$2=Options!$H$4,Options!H24,IF(Options!$D$2=Options!$I$4,Options!I24,IF(Options!$D$2=Options!$J$4,Options!J24,IF(Options!$D$2=Options!$K$4,Options!K24,IF(Options!$D$2=Options!$L$4,Options!L24,IF(Options!$D$2=Options!$M$4,Options!M24,0)))))))))) -> 0.3 | G34: =$I$22*F34 -> 839953.71 | H34: =IF(Options!$D$2=Options!$D$4,Options!D32,IF(Options!$D$2=Options!$E$4,Options!E32,IF(Options!$D$2=Options!$F$4,Options!F32,IF(Options!$D$2=Options!$G$4,Options!G32,IF(Options!$D$2=Options!$H$4,Options!H32,IF(Options!$D$2=Options!$I$4,Options!I32,IF(Options!$D$2=Options!$J$4,Options!J32,IF(Options!$D$2=Options!$K$4,Options!K32,IF(Options!$D$2=Options!$L$4,Options!L32,IF(Options!$D$2=Options!$M$4,Options!M32,0)))))))))) -> 2900 | I34: =G34/H34 -> 289.63921 | J34: =IF(Options!$D$2=Options!$D$4,Options!D40,IF(Options!$D$2=Options!$E$4,Options!E40,IF(Options!$D$2=Options!$F$4,Options!F40,IF(Options!$D$2=Options!$G$4,Options!G40,IF(Options!$D$2=Options!$H$4,Options!H40,IF(Options!$D$2=Options!$I$4,Options!I40,IF(Options!$D$2=Options!$J$4,Options!J40,IF(Options!$D$2=Options!$K$4,Options!K40,IF(Options!$D$2=Options!$L$4,Options!L40,IF(Options!$D$2=Options!$M$4,Options!M40,0)))))))))) -> 3 | K34: 425 | L34: =K34*M34 -> 369289.99 | M34: =I34*J34 -> 868.91763 | N34: =F34*$K$22 -> 789556.49 | O34: =N34+L34 -> 1158846.5
B35: Retail | D35: =I35 -> 205.91242 | F35: =IF(Options!$D$2=Options!$D$4,Options!D25,IF(Options!$D$2=Options!$E$4,Options!E25,IF(Options!$D$2=Options!$F$4,Options!F25,IF(Options!$D$2=Options!$G$4,Options!G25,IF(Options!$D$2=Options!$H$4,Options!H25,IF(Options!$D$2=Options!$I$4,Options!I25,IF(Options!$D$2=Options!$J$4,Options!J25,IF(Options!$D$2=Options!$K$4,Options!K25,IF(Options!$D$2=Options!$L$4,Options!L25,IF(Options!$D$2=Options!$M$4,Options!M25,0)))))))))) -> 0.09 | G35: =F35*$I$24 -> 72069.346 | H35: =IF(Options!$D$2=Options!$D$4,Options!D33,IF(Options!$D$2=Options!$E$4,Options!E33,IF(Options!$D$2=Options!$F$4,Options!F33,IF(Options!$D$2=Options!$G$4,Options!G33,IF(Options!$D$2=Options!$H$4,Options!H33,IF(Options!$D$2=Options!$I$4,Options!I33,IF(Options!$D$2=Options!$J$4,Options!J33,IF(Options!$D$2=Options!$K$4,Options!K33,IF(Options!$D$2=Options!$L$4,Options!L33,IF(Options!$D$2=Options!$M$4,Options!M33,0)))))))))) -> 350 | I35: =G35/H35 -> 205.91242 | J35: =IF(Options!$D$2=Options!$D$4,Options!D41,IF(Options!$D$2=Options!$E$4,Options!E41,IF(Options!$D$2=Options!$F$4,Options!F41,IF(Options!$D$2=Options!$G$4,Options!G41,IF(Options!$D$2=Options!$H$4,Options!H41,IF(Options!$D$2=Options!$I$4,Options!I41,IF(Options!$D$2=Options!$J$4,Options!J41,IF(Options!$D$2=Options!$K$4,Options!K41,IF(Options!$D$2=Options!$L$4,Options!L41,IF(Options!$D$2=Options!$M$4,Options!M41,0)))))))))) -> 1 | K35: 425 | L35: =K35*M35 -> 87512.777 | M35: =I35*J35 -> 205.91242 | N35: =G35 -> 72069.346 | O35: =N35+L35 -> 159582.12
B36: Commercial NILP | D36: =I36 -> 613.86104 | F36: =IF(Options!$D$2=Options!$D$4,Options!D26,IF(Options!$D$2=Options!$E$4,Options!E26,IF(Options!$D$2=Options!$F$4,Options!F26,IF(Options!$D$2=Options!$G$4,Options!G26,IF(Options!$D$2=Options!$H$4,Options!H26,IF(Options!$D$2=Options!$I$4,Options!I26,IF(Options!$D$2=Options!$J$4,Options!J26,IF(Options!$D$2=Options!$K$4,Options!K26,IF(Options!$D$2=Options!$L$4,Options!L26,IF(Options!$D$2=Options!$M$4,Options!M26,0)))))))))) -> 0.26830579 | G36: =F36*$I$24 -> 214851.37 | H36: =IF(Options!$D$2=Options!$D$4,Options!D34,IF(Options!$D$2=Options!$E$4,Options!E34,IF(Options!$D$2=Options!$F$4,Options!F34,IF(Options!$D$2=Options!$G$4,Options!G34,IF(Options!$D$2=Options!$H$4,Options!H34,IF(Options!$D$2=Options!$I$4,Options!I34,IF(Options!$D$2=Options!$J$4,Options!J34,IF(Options!$D$2=Options!$K$4,Options!K34,IF(Options!$D$2=Options!$L$4,Options!L34,IF(Options!$D$2=Options!$M$4,Options!M34,0)))))))))) -> 350 | I36: =G36/H36 -> 613.86104 | J36: =IF(Options!$D$2=Options!$D$4,Options!D42,IF(Options!$D$2=Options!$E$4,Options!E42,IF(Options!$D$2=Options!$F$4,Options!F42,IF(Options!$D$2=Options!$G$4,Options!G42,IF(Options!$D$2=Options!$H$4,Options!H42,IF(Options!$D$2=Options!$I$4,Options!I42,IF(Options!$D$2=Options!$J$4,Options!J42,IF(Options!$D$2=Options!$K$4,Options!K42,IF(Options!$D$2=Options!$L$4,Options!L42,IF(Options!$D$2=Options!$M$4,Options!M42,0)))))))))) -> 1 | K36: 425 | L36: =K36*M36 -> 260890.94 | M36: =I36*J36 -> 613.86104 | N36: =G36 -> 214851.37 | O36: =N36+L36 -> 475742.31
B37: Commercial TOD | D37: =I37 -> 1468.1784 | F37: =IF(Options!$D$2=Options!$D$4,Options!D27,IF(Options!$D$2=Options!$E$4,Options!E27,IF(Options!$D$2=Options!$F$4,Options!F27,IF(Options!$D$2=Options!$G$4,Options!G27,IF(Options!$D$2=Options!$H$4,Options!H27,IF(Options!$D$2=Options!$I$4,Options!I27,IF(Options!$D$2=Options!$J$4,Options!J27,IF(Options!$D$2=Options!$K$4,Options!K27,IF(Options!$D$2=Options!$L$4,Options!L27,IF(Options!$D$2=Options!$M$4,Options!M27,0)))))))))) -> 0.64171001 | G37: =F37*$I$24 -> 513862.45 | H37: =IF(Options!$D$2=Options!$D$4,Options!D35,IF(Options!$D$2=Options!$E$4,Options!E35,IF(Options!$D$2=Options!$F$4,Options!F35,IF(Options!$D$2=Options!$G$4,Options!G35,IF(Options!$D$2=Options!$H$4,Options!H35,IF(Options!$D$2=Options!$I$4,Options!I35,IF(Options!$D$2=Options!$J$4,Options!J35,IF(Options!$D$2=Options!$K$4,Options!K35,IF(Options!$D$2=Options!$L$4,Options!L35,IF(Options!$D$2=Options!$M$4,Options!M35,0)))))))))) -> 350 | I37: =G37/H37 -> 1468.1784 | J37: =IF(Options!$D$2=Options!$D$4,Options!D43,IF(Options!$D$2=Options!$E$4,Options!E43,IF(Options!$D$2=Options!$F$4,Options!F43,IF(Options!$D$2=Options!$G$4,Options!G43,IF(Options!$D$2=Options!$H$4,Options!H43,IF(Options!$D$2=Options!$I$4,Options!I43,IF(Options!$D$2=Options!$J$4,Options!J43,IF(Options!$D$2=Options!$K$4,Options!K43,IF(Options!$D$2=Options!$L$4,Options!L43,IF(Options!$D$2=Options!$M$4,Options!M43,0)))))))))) -> 1 | K37: 425 | L37: =K37*M37 -> 623975.83 | M37: =I37 -> 1468.1784 | N37: =G37 -> 513862.45 | O37: =N37+L37 -> 1137838.3
D38: =SUM(D31:D37) -> 3506.6017 | G38: =SUM(G31:G37) -> 3600628.9 | L38: =SUM(L31:L37) -> 2131328.5 | M38: =SUM(M31:M37) -> 5014.8907 | O38: =SUM(O31:O37) -> 5563966.7
B39: Note - product mix excl. club house, taken in lot-wise construction
B41: Phase Wise Unit Count - Residential
B43: Particulars | C43: Total | F43: =F1 -> 45748 | G43: =EOMONTH(F43, 1) -> 45808 | H43: =EOMONTH(G43, 1) -> 45838 | I43: =EOMONTH(H43, 1) -> 45869 | J43: =EOMONTH(I43, 1) -> 45900 | K43: =EOMONTH(J43, 1) -> 45930 | L43: =EOMONTH(K43, 1) -> 45961 | M43: =EOMONTH(L43, 1) -> 45991 | N43: =EOMONTH(M43, 1) -> 46022 | ... FO43: =EOMONTH(FN43, 1) -> 50801
B44: Phase 1 | C44: =SUM(F44:FO44) -> 304.66245 | F44: =('Assumptions&Data'!$F$124*'Assumptions&Data'!N87)+('Assumptions&Data'!$G$124*'Assumptions&Data'!N87)+('Assumptions&Data'!$H$124*'Assumptions&Data'!N87)+('Assumptions&Data'!$I$124*'Assumptions&Data'!N87) -> 22.849684 | G44: =('Assumptions&Data'!$F$124*'Assumptions&Data'!O87)+('Assumptions&Data'!$G$124*'Assumptions&Data'!O87)+('Assumptions&Data'!$H$124*'Assumptions&Data'!O87)+('Assumptions&Data'!$I$124*'Assumptions&Data'!O87) -> 22.849684 | H44: =('Assumptions&Data'!$F$124*'Assumptions&Data'!P87)+('Assumptions&Data'!$G$124*'Assumptions&Data'!P87)+('Assumptions&Data'!$H$124*'Assumptions&Data'!P87)+('Assumptions&Data'!$I$124*'Assumptions&Data'!P87) -> 22.849684 | I44: =('Assumptions&Data'!$F$124*'Assumptions&Data'!Q87)+('Assumptions&Data'!$G$124*'Assumptions&Data'!Q87)+('Assumptions&Data'!$H$124*'Assumptions&Data'!Q87)+('Assumptions&Data'!$I$124*'Assumptions&Data'!Q87) -> 15.233122 | J44: =('Assumptions&Data'!$F$124*'Assumptions&Data'!R87)+('Assumptions&Data'!$G$124*'Assumptions&Data'!R87)+('Assumptions&Data'!$H$124*'Assumptions&Data'!R87)+('Assumptions&Data'!$I$124*'Assumptions&Data'!R87) -> 15.233122 | K44: =('Assumptions&Data'!$F$124*'Assumptions&Data'!S87)+('Assumptions&Data'!$G$124*'Assumptions&Data'!S87)+('Assumptions&Data'!$H$124*'Assumptions&Data'!S87)+('Assumptions&Data'!$I$124*'Assumptions&Data'!S87) -> 15.233122 | L44: =('Assumptions&Data'!$F$124*'Assumptions&Data'!T87)+('Assumptions&Data'!$G$124*'Assumptions&Data'!T87)+('Assumptions&Data'!$H$124*'Assumptions&Data'!T87)+('Assumptions&Data'!$I$124*'Assumptions&Data'!T87) -> 15.233122 | M44: =('Assumptions&Data'!$F$124*'Assumptions&Data'!U87)+('Assumptions&Data'!$G$124*'Assumptions&Data'!U87)+('Assumptions&Data'!$H$124*'Assumptions&Data'!U87)+('Assumptions&Data'!$I$124*'Assumptions&Data'!U87) -> 9.1398735 | ... FO44: =('Assumptions&Data'!$F$124*'Assumptions&Data'!FW87)+('Assumptions&Data'!$G$124*'Assumptions&Data'!FW87)+('Assumptions&Data'!$H$124*'Assumptions&Data'!FW87)+('Assumptions&Data'!$I$124*'Assumptions&Data'!FW87) -> 0
B45: Phase 2 | C45: =SUM(F45:FO45) -> 365.59494 | F45: =('Assumptions&Data'!$F$125*'Assumptions&Data'!L88)+('Assumptions&Data'!$G$125*'Assumptions&Data'!L88)+('Assumptions&Data'!$H$125*'Assumptions&Data'!L88)+('Assumptions&Data'!$I$125*'Assumptions&Data'!L88) -> 0 | G45: =('Assumptions&Data'!$F$125*'Assumptions&Data'!M88)+('Assumptions&Data'!$G$125*'Assumptions&Data'!M88)+('Assumptions&Data'!$H$125*'Assumptions&Data'!M88)+('Assumptions&Data'!$I$125*'Assumptions&Data'!M88) -> 0 | H45: =('Assumptions&Data'!$F$125*'Assumptions&Data'!N88)+('Assumptions&Data'!$G$125*'Assumptions&Data'!N88)+('Assumptions&Data'!$H$125*'Assumptions&Data'!N88)+('Assumptions&Data'!$I$125*'Assumptions&Data'!N88) -> 0 | I45: =('Assumptions&Data'!$F$125*'Assumptions&Data'!O88)+('Assumptions&Data'!$G$125*'Assumptions&Data'!O88)+('Assumptions&Data'!$H$125*'Assumptions&Data'!O88)+('Assumptions&Data'!$I$125*'Assumptions&Data'!O88) -> 0 | J45: =('Assumptions&Data'!$F$125*'Assumptions&Data'!P88)+('Assumptions&Data'!$G$125*'Assumptions&Data'!P88)+('Assumptions&Data'!$H$125*'Assumptions&Data'!P88)+('Assumptions&Data'!$I$125*'Assumptions&Data'!P88) -> 0 | K45: =('Assumptions&Data'!$F$125*'Assumptions&Data'!Q88)+('Assumptions&Data'!$G$125*'Assumptions&Data'!Q88)+('Assumptions&Data'!$H$125*'Assumptions&Data'!Q88)+('Assumptions&Data'!$I$125*'Assumptions&Data'!Q88) -> 0 | L45: =('Assumptions&Data'!$F$125*'Assumptions&Data'!R88)+('Assumptions&Data'!$G$125*'Assumptions&Data'!R88)+('Assumptions&Data'!$H$125*'Assumptions&Data'!R88)+('Assumptions&Data'!$I$125*'Assumptions&Data'!R88) -> 0 | M45: =('Assumptions&Data'!$F$125*'Assumptions&Data'!S88)+('Assumptions&Data'!$G$125*'Assumptions&Data'!S88)+('Assumptions&Data'!$H$125*'Assumptions&Data'!S88)+('Assumptions&Data'!$I$125*'Assumptions&Data'!S88) -> 0 | ... FO45: =('Assumptions&Data'!$F$125*'Assumptions&Data'!FU88)+('Assumptions&Data'!$G$125*'Assumptions&Data'!FU88)+('Assumptions&Data'!$H$125*'Assumptions&Data'!FU88)+('Assumptions&Data'!$I$125*'Assumptions&Data'!FU88) -> 0
B46: Phase 3 | C46: =SUM(F46:FO46) -> 548.39241 | F46: =('Assumptions&Data'!$F$126*'Assumptions&Data'!L89)+('Assumptions&Data'!$G$126*'Assumptions&Data'!L89)+('Assumptions&Data'!$H$126*'Assumptions&Data'!L89)+('Assumptions&Data'!$I$126*'Assumptions&Data'!L89) -> 0 | G46: =('Assumptions&Data'!$F$126*'Assumptions&Data'!M89)+('Assumptions&Data'!$G$126*'Assumptions&Data'!M89)+('Assumptions&Data'!$H$126*'Assumptions&Data'!M89)+('Assumptions&Data'!$I$126*'Assumptions&Data'!M89) -> 0 | H46: =('Assumptions&Data'!$F$126*'Assumptions&Data'!N89)+('Assumptions&Data'!$G$126*'Assumptions&Data'!N89)+('Assumptions&Data'!$H$126*'Assumptions&Data'!N89)+('Assumptions&Data'!$I$126*'Assumptions&Data'!N89) -> 0 | I46: =('Assumptions&Data'!$F$126*'Assumptions&Data'!O89)+('Assumptions&Data'!$G$126*'Assumptions&Data'!O89)+('Assumptions&Data'!$H$126*'Assumptions&Data'!O89)+('Assumptions&Data'!$I$126*'Assumptions&Data'!O89) -> 0 | J46: =('Assumptions&Data'!$F$126*'Assumptions&Data'!P89)+('Assumptions&Data'!$G$126*'Assumptions&Data'!P89)+('Assumptions&Data'!$H$126*'Assumptions&Data'!P89)+('Assumptions&Data'!$I$126*'Assumptions&Data'!P89) -> 0 | K46: =('Assumptions&Data'!$F$126*'Assumptions&Data'!Q89)+('Assumptions&Data'!$G$126*'Assumptions&Data'!Q89)+('Assumptions&Data'!$H$126*'Assumptions&Data'!Q89)+('Assumptions&Data'!$I$126*'Assumptions&Data'!Q89) -> 0 | L46: =('Assumptions&Data'!$F$126*'Assumptions&Data'!R89)+('Assumptions&Data'!$G$126*'Assumptions&Data'!R89)+('Assumptions&Data'!$H$126*'Assumptions&Data'!R89)+('Assumptions&Data'!$I$126*'Assumptions&Data'!R89) -> 0 | M46: =('Assumptions&Data'!$F$126*'Assumptions&Data'!S89)+('Assumptions&Data'!$G$126*'Assumptions&Data'!S89)+('Assumptions&Data'!$H$126*'Assumptions&Data'!S89)+('Assumptions&Data'!$I$126*'Assumptions&Data'!S89) -> 0 | ... FO46: =('Assumptions&Data'!$F$126*'Assumptions&Data'!FU89)+('Assumptions&Data'!$G$126*'Assumptions&Data'!FU89)+('Assumptions&Data'!$H$126*'Assumptions&Data'!FU89)+('Assumptions&Data'!$I$126*'Assumptions&Data'!FU89) -> 0
C47: =SUM(F47:FO47) -> 1218.6498 | F47: =SUM(F44:F46) -> 22.849684 | G47: =SUM(G44:G46) -> 22.849684 | H47: =SUM(H44:H46) -> 22.849684 | I47: =SUM(I44:I46) -> 15.233122 | J47: =SUM(J44:J46) -> 15.233122 | K47: =SUM(K44:K46) -> 15.233122 | L47: =SUM(L44:L46) -> 15.233122 | M47: =SUM(M44:M46) -> 9.1398735 | ... FO47: =SUM(FO44:FO46) -> 0
B49: Phase Wise Unit Count - Commercial
B51: Particulars | C51: Total | F51: =F1 -> 45748 | G51: =EOMONTH(F51, 1) -> 45808 | H51: =EOMONTH(G51, 1) -> 45838 | I51: =EOMONTH(H51, 1) -> 45869 | J51: =EOMONTH(I51, 1) -> 45900 | K51: =EOMONTH(J51, 1) -> 45930 | L51: =EOMONTH(K51, 1) -> 45961 | M51: =EOMONTH(L51, 1) -> 45991 | N51: =EOMONTH(M51, 1) -> 46022 | ... FO51: =EOMONTH(FN51, 1) -> 50801
B52: Phase 1 | C52: =SUM(F52:FO52) -> 571.98797 | F52: =('Assumptions&Data'!$J$124*'Assumptions&Data'!N87)+('Assumptions&Data'!$K$124*'Assumptions&Data'!N87)+('Assumptions&Data'!$L$124*'Assumptions&Data'!N87) -> 42.899098 | G52: =('Assumptions&Data'!$J$124*'Assumptions&Data'!O87)+('Assumptions&Data'!$K$124*'Assumptions&Data'!O87)+('Assumptions&Data'!$L$124*'Assumptions&Data'!O87) -> 42.899098 | H52: =('Assumptions&Data'!$J$124*'Assumptions&Data'!P87)+('Assumptions&Data'!$K$124*'Assumptions&Data'!P87)+('Assumptions&Data'!$L$124*'Assumptions&Data'!P87) -> 42.899098 | I52: =('Assumptions&Data'!$J$124*'Assumptions&Data'!Q87)+('Assumptions&Data'!$K$124*'Assumptions&Data'!Q87)+('Assumptions&Data'!$L$124*'Assumptions&Data'!Q87) -> 28.599399 | J52: =('Assumptions&Data'!$J$124*'Assumptions&Data'!R87)+('Assumptions&Data'!$K$124*'Assumptions&Data'!R87)+('Assumptions&Data'!$L$124*'Assumptions&Data'!R87) -> 28.599399 | K52: =('Assumptions&Data'!$J$124*'Assumptions&Data'!S87)+('Assumptions&Data'!$K$124*'Assumptions&Data'!S87)+('Assumptions&Data'!$L$124*'Assumptions&Data'!S87) -> 28.599399 | L52: =('Assumptions&Data'!$J$124*'Assumptions&Data'!T87)+('Assumptions&Data'!$K$124*'Assumptions&Data'!T87)+('Assumptions&Data'!$L$124*'Assumptions&Data'!T87) -> 28.599399 | M52: =('Assumptions&Data'!$J$124*'Assumptions&Data'!U87)+('Assumptions&Data'!$K$124*'Assumptions&Data'!U87)+('Assumptions&Data'!$L$124*'Assumptions&Data'!U87) -> 17.159639 | ... FO52: =('Assumptions&Data'!$J$124*'Assumptions&Data'!FW87)+('Assumptions&Data'!$K$124*'Assumptions&Data'!FW87)+('Assumptions&Data'!$L$124*'Assumptions&Data'!FW87) -> 0
B53: Phase 2 | C53: =SUM(F53:FO53) -> 686.38556 | F53: =('Assumptions&Data'!$J$125*'Assumptions&Data'!L88)+('Assumptions&Data'!$K$125*'Assumptions&Data'!L88)+('Assumptions&Data'!$L$125*'Assumptions&Data'!L88) -> 0 | G53: =('Assumptions&Data'!$J$125*'Assumptions&Data'!M88)+('Assumptions&Data'!$K$125*'Assumptions&Data'!M88)+('Assumptions&Data'!$L$125*'Assumptions&Data'!M88) -> 0 | H53: =('Assumptions&Data'!$J$125*'Assumptions&Data'!N88)+('Assumptions&Data'!$K$125*'Assumptions&Data'!N88)+('Assumptions&Data'!$L$125*'Assumptions&Data'!N88) -> 0 | I53: =('Assumptions&Data'!$J$125*'Assumptions&Data'!O88)+('Assumptions&Data'!$K$125*'Assumptions&Data'!O88)+('Assumptions&Data'!$L$125*'Assumptions&Data'!O88) -> 0 | J53: =('Assumptions&Data'!$J$125*'Assumptions&Data'!P88)+('Assumptions&Data'!$K$125*'Assumptions&Data'!P88)+('Assumptions&Data'!$L$125*'Assumptions&Data'!P88) -> 0 | K53: =('Assumptions&Data'!$J$125*'Assumptions&Data'!Q88)+('Assumptions&Data'!$K$125*'Assumptions&Data'!Q88)+('Assumptions&Data'!$L$125*'Assumptions&Data'!Q88) -> 0 | L53: =('Assumptions&Data'!$J$125*'Assumptions&Data'!R88)+('Assumptions&Data'!$K$125*'Assumptions&Data'!R88)+('Assumptions&Data'!$L$125*'Assumptions&Data'!R88) -> 0 | M53: =('Assumptions&Data'!$J$125*'Assumptions&Data'!S88)+('Assumptions&Data'!$K$125*'Assumptions&Data'!S88)+('Assumptions&Data'!$L$125*'Assumptions&Data'!S88) -> 0 | ... FO53: =('Assumptions&Data'!$J$125*'Assumptions&Data'!FU88)+('Assumptions&Data'!$K$125*'Assumptions&Data'!FU88)+('Assumptions&Data'!$L$125*'Assumptions&Data'!FU88) -> 0
B54: Phase 3 | C54: =SUM(F54:FO54) -> 1029.5783 | F54: =('Assumptions&Data'!$J$126*'Assumptions&Data'!L89)+('Assumptions&Data'!$K$126*'Assumptions&Data'!L89)+('Assumptions&Data'!$L$126*'Assumptions&Data'!L89) -> 0 | G54: =('Assumptions&Data'!$J$126*'Assumptions&Data'!M89)+('Assumptions&Data'!$K$126*'Assumptions&Data'!M89)+('Assumptions&Data'!$L$126*'Assumptions&Data'!M89) -> 0 | H54: =('Assumptions&Data'!$J$126*'Assumptions&Data'!N89)+('Assumptions&Data'!$K$126*'Assumptions&Data'!N89)+('Assumptions&Data'!$L$126*'Assumptions&Data'!N89) -> 0 | I54: =('Assumptions&Data'!$J$126*'Assumptions&Data'!O89)+('Assumptions&Data'!$K$126*'Assumptions&Data'!O89)+('Assumptions&Data'!$L$126*'Assumptions&Data'!O89) -> 0 | J54: =('Assumptions&Data'!$J$126*'Assumptions&Data'!P89)+('Assumptions&Data'!$K$126*'Assumptions&Data'!P89)+('Assumptions&Data'!$L$126*'Assumptions&Data'!P89) -> 0 | K54: =('Assumptions&Data'!$J$126*'Assumptions&Data'!Q89)+('Assumptions&Data'!$K$126*'Assumptions&Data'!Q89)+('Assumptions&Data'!$L$126*'Assumptions&Data'!Q89) -> 0 | L54: =('Assumptions&Data'!$J$126*'Assumptions&Data'!R89)+('Assumptions&Data'!$K$126*'Assumptions&Data'!R89)+('Assumptions&Data'!$L$126*'Assumptions&Data'!R89) -> 0 | M54: =('Assumptions&Data'!$J$126*'Assumptions&Data'!S89)+('Assumptions&Data'!$K$126*'Assumptions&Data'!S89)+('Assumptions&Data'!$L$126*'Assumptions&Data'!S89) -> 0 | ... FO54: =('Assumptions&Data'!$J$126*'Assumptions&Data'!FU89)+('Assumptions&Data'!$K$126*'Assumptions&Data'!FU89)+('Assumptions&Data'!$L$126*'Assumptions&Data'!FU89) -> 0
...

Sheet MonthlyCashflow
B1: Gurgaon 18 Acre Project: Cash Flow | G1: ='Assumptions&Data'!D6 -> 45748 | H1: =EOMONTH(G1, 1) -> 45808 | I1: =EOMONTH(H1, 1) -> 45838 | J1: =EOMONTH(I1, 1) -> 45869 | K1: =EOMONTH(J1, 1) -> 45900 | L1: =EOMONTH(K1, 1) -> 45930 | M1: =EOMONTH(L1, 1) -> 45961 | N1: =EOMONTH(M1, 1) -> 45991 | O1: =EOMONTH(N1, 1) -> 46022 | ... FP1: =EOMONTH(FO1, 1) -> 50801
B3: Particulars | C3: Units | D3: Total | E3: Per sqft. Of apartment area
B5: Convert Monetary Value | C5: # | D5: 7
B7: Residential Commercial Sale - Lot Wise Area Value Booked | G7: =G1 -> 45748 | H7: =EOMONTH(G7, 1) -> 45808 | I7: =EOMONTH(H7, 1) -> 45838 | J7: =EOMONTH(I7, 1) -> 45869 | K7: =EOMONTH(J7, 1) -> 45900 | L7: =EOMONTH(K7, 1) -> 45930 | M7: =EOMONTH(L7, 1) -> 45961 | N7: =EOMONTH(M7, 1) -> 45991 | O7: =EOMONTH(N7, 1) -> 46022 | ... FO7: =EOMONTH(FN7, 1) -> 50770
B9: Particulars
B10: Residential 2 BHK | C10: =IF($D$5=7, "INR Cr", "INR Mn") -> INR Cr | D10: =SUM(G10:FO10) -> 0 | G10: =SUM(G11:G13) -> 0 | H10: =SUM(H11:H13) -> 0 | I10: =SUM(I11:I13) -> 0 | J10: =SUM(J11:J13) -> 0 | K10: =SUM(K11:K13) -> 0 | L10: =SUM(L11:L13) -> 0 | M10: =SUM(M11:M13) -> 0 | N10: =SUM(N11:N13) -> 0 | ... FO10: =SUM(FO11:FO13) -> 0
B11: Lot 1 | D11: =SUM(G11:FO11) -> 0 | G11: =(Schedule!F68*'Assumptions&Data'!F60)/10^$D$5 -> 0 | H11: =(Schedule!G68*'Assumptions&Data'!G60)/10^$D$5 -> 0 | I11: =(Schedule!H68*'Assumptions&Data'!H60)/10^$D$5 -> 0 | J11: =(Schedule!I68*'Assumptions&Data'!I60)/10^$D$5 -> 0 | K11: =(Schedule!J68*'Assumptions&Data'!J60)/10^$D$5 -> 0 | L11: =(Schedule!K68*'Assumptions&Data'!K60)/10^$D$5 -> 0 | M11: =(Schedule!L68*'Assumptions&Data'!L60)/10^$D$5 -> 0 | N11: =(Schedule!M68*'Assumptions&Data'!M60)/10^$D$5 -> 0 | ... FO11: =(Schedule!FN68*'Assumptions&Data'!FN60)/10^$D$5 -> 0
B12: Lot 2 | D12: =SUM(G12:FO12) -> 0 | G12: =(Schedule!F69*'Assumptions&Data'!F60)/10^$D$5 -> 0 | H12: =(Schedule!G69*'Assumptions&Data'!G60)/10^$D$5 -> 0 | I12: =(Schedule!H69*'Assumptions&Data'!H60)/10^$D$5 -> 0 | J12: =(Schedule!I69*'Assumptions&Data'!I60)/10^$D$5 -> 0 | K12: =(Schedule!J69*'Assumptions&Data'!J60)/10^$D$5 -> 0 | L12: =(Schedule!K69*'Assumptions&Data'!K60)/10^$D$5 -> 0 | M12: =(Schedule!L69*'Assumptions&Data'!L60)/10^$D$5 -> 0 | N12: =(Schedule!M69*'Assumptions&Data'!M60)/10^$D$5 -> 0 | ... FO12: =(Schedule!FN69*'Assumptions&Data'!FN60)/10^$D$5 -> 0
B13: Lot 3 | D13: =SUM(G13:FO13) -> 0 | G13: =(Schedule!F70*'Assumptions&Data'!F60)/10^$D$5 -> 0 | H13: =(Schedule!G70*'Assumptions&Data'!G60)/10^$D$5 -> 0 | I13: =(Schedule!H70*'Assumptions&Data'!H60)/10^$D$5 -> 0 | J13: =(Schedule!I70*'Assumptions&Data'!I60)/10^$D$5 -> 0 | K13: =(Schedule!J70*'Assumptions&Data'!J60)/10^$D$5 -> 0 | L13: =(Schedule!K70*'Assumptions&Data'!K60)/10^$D$5 -> 0 | M13: =(Schedule!L70*'Assumptions&Data'!L60)/10^$D$5 -> 0 | N13: =(Schedule!M70*'Assumptions&Data'!M60)/10^$D$5 -> 0 | ... FO13: =(Schedule!FN70*'Assumptions&Data'!FN60)/10^$D$5 -> 0
B15: Residential 3 BHK | C15: =IF($D$5=7, "INR Cr", "INR Mn") -> INR Cr | D15: =SUM(G15:FO15) -> 1889.8958 | G15: =SUM(G16:G18) -> 0 | H15: =SUM(H16:H18) -> 0 | I15: =SUM(I16:I18) -> 0 | J15: =SUM(J16:J18) -> 0 | K15: =SUM(K16:K18) -> 0 | L15: =SUM(L16:L18) -> 0 | M15: =SUM(M16:M18) -> 0 | N15: =SUM(N16:N18) -> 0 | ... FO15: =SUM(FO16:FO18) -> 0
B16: Lot 1 | D16: =SUM(G16:FO16) -> 472.47396 | G16: =(Schedule!F73*'Assumptions&Data'!F60)/10^$D$5 -> 0 | H16: =(Schedule!G73*'Assumptions&Data'!G60)/10^$D$5 -> 0 | I16: =(Schedule!H73*'Assumptions&Data'!H60)/10^$D$5 -> 0 | J16: =(Schedule!I73*'Assumptions&Data'!I60)/10^$D$5 -> 0 | K16: =(Schedule!J73*'Assumptions&Data'!J60)/10^$D$5 -> 0 | L16: =(Schedule!K73*'Assumptions&Data'!K60)/10^$D$5 -> 0 | M16: =(Schedule!L73*'Assumptions&Data'!L60)/10^$D$5 -> 0 | N16: =(Schedule!M73*'Assumptions&Data'!M60)/10^$D$5 -> 0 | ... FO16: =(Schedule!FN73*'Assumptions&Data'!FN60)/10^$D$5 -> 0
B17: Lot 2 | D17: =SUM(G17:FO17) -> 566.96875 | G17: =(Schedule!F74*'Assumptions&Data'!F60)/10^$D$5 -> 0 | H17: =(Schedule!G74*'Assumptions&Data'!G60)/10^$D$5 -> 0 | I17: =(Schedule!H74*'Assumptions&Data'!H60)/10^$D$5 -> 0 | J17: =(Schedule!I74*'Assumptions&Data'!I60)/10^$D$5 -> 0 | K17: =(Schedule!J74*'Assumptions&Data'!J60)/10^$D$5 -> 0 | L17: =(Schedule!K74*'Assumptions&Data'!K60)/10^$D$5 -> 0 | M17: =(Schedule!L74*'Assumptions&Data'!L60)/10^$D$5 -> 0 | N17: =(Schedule!M74*'Assumptions&Data'!M60)/10^$D$5 -> 0 | ... FO17: =(Schedule!FN74*'Assumptions&Data'!FN60)/10^$D$5 -> 0
B18: Lot 3 | D18: =SUM(G18:FO18) -> 850.45313 | G18: =(Schedule!F75*'Assumptions&Data'!F60)/10^$D$5 -> 0 | H18: =(Schedule!G75*'Assumptions&Data'!G60)/10^$D$5 -> 0 | I18: =(Schedule!H75*'Assumptions&Data'!H60)/10^$D$5 -> 0 | J18: =(Schedule!I75*'Assumptions&Data'!I60)/10^$D$5 -> 0 | K18: =(Schedule!J75*'Assumptions&Data'!J60)/10^$D$5 -> 0 | L18: =(Schedule!K75*'Assumptions&Data'!K60)/10^$D$5 -> 0 | M18: =(Schedule!L75*'Assumptions&Data'!L60)/10^$D$5 -> 0 | N18: =(Schedule!M75*'Assumptions&Data'!M60)/10^$D$5 -> 0 | ... FO18: =(Schedule!FN75*'Assumptions&Data'!FN60)/10^$D$5 -> 0
B20: Residential 3 BHK + S | C20: =IF($D$5=7, "INR Cr", "INR Mn") -> INR Cr | D20: =SUM(G20:FO20) -> 2519.8611 | G20: =SUM(G21:G23) -> 0 | H20: =SUM(H21:H23) -> 0 | I20: =SUM(I21:I23) -> 0 | J20: =SUM(J21:J23) -> 0 | K20: =SUM(K21:K23) -> 0 | L20: =SUM(L21:L23) -> 0 | M20: =SUM(M21:M23) -> 0 | N20: =SUM(N21:N23) -> 0 | ... FO20: =SUM(FO21:FO23) -> 0
B21: Lot 1 | D21: =SUM(G21:FO21) -> 629.96528 | G21: =(Schedule!F78*'Assumptions&Data'!F60)/10^$D$5 -> 0 | H21: =(Schedule!G78*'Assumptions&Data'!G60)/10^$D$5 -> 0 | I21: =(Schedule!H78*'Assumptions&Data'!H60)/10^$D$5 -> 0 | J21: =(Schedule!I78*'Assumptions&Data'!I60)/10^$D$5 -> 0 | K21: =(Schedule!J78*'Assumptions&Data'!J60)/10^$D$5 -> 0 | L21: =(Schedule!K78*'Assumptions&Data'!K60)/10^$D$5 -> 0 | M21: =(Schedule!L78*'Assumptions&Data'!L60)/10^$D$5 -> 0 | N21: =(Schedule!M78*'Assumptions&Data'!M60)/10^$D$5 -> 0 | ... FO21: =(Schedule!FN78*'Assumptions&Data'!FN60)/10^$D$5 -> 0
B22: Lot 2 | D22: =SUM(G22:FO22) -> 755.95834 | G22: =(Schedule!F79*'Assumptions&Data'!F60)/10^$D$5 -> 0 | H22: =(Schedule!G79*'Assumptions&Data'!G60)/10^$D$5 -> 0 | I22: =(Schedule!H79*'Assumptions&Data'!H60)/10^$D$5 -> 0 | J22: =(Schedule!I79*'Assumptions&Data'!I60)/10^$D$5 -> 0 | K22: =(Schedule!J79*'Assumptions&Data'!J60)/10^$D$5 -> 0 | L22: =(Schedule!K79*'Assumptions&Data'!K60)/10^$D$5 -> 0 | M22: =(Schedule!L79*'Assumptions&Data'!L60)/10^$D$5 -> 0 | N22: =(Schedule!M79*'Assumptions&Data'!M60)/10^$D$5 -> 0 | ... FO22: =(Schedule!FN79*'Assumptions&Data'!FN60)/10^$D$5 -> 0
B23: Lot 3 | D23: =SUM(G23:FO23) -> 1133.9375 | G23: =(Schedule!F80*'Assumptions&Data'!F60)/10^$D$5 -> 0 | H23: =(Schedule!G80*'Assumptions&Data'!G60)/10^$D$5 -> 0 | I23: =(Schedule!H80*'Assumptions&Data'!H60)/10^$D$5 -> 0 | J23: =(Schedule!I80*'Assumptions&Data'!I60)/10^$D$5 -> 0 | K23: =(Schedule!J80*'Assumptions&Data'!J60)/10^$D$5 -> 0 | L23: =(Schedule!K80*'Assumptions&Data'!K60)/10^$D$5 -> 0 | M23: =(Schedule!L80*'Assumptions&Data'!L60)/10^$D$5 -> 0 | N23: =(Schedule!M80*'Assumptions&Data'!M60)/10^$D$5 -> 0 | ... FO23: =(Schedule!FN80*'Assumptions&Data'!FN60)/10^$D$5 -> 0
B25: Residential 4 BHK + S | C25: =IF($D$5=7, "INR Cr", "INR Mn") -> INR Cr | D25: =SUM(G25:FO25) -> 1889.8958 | G25: =SUM(G26:G28) -> 0 | H25: =SUM(H26:H28) -> 0 | I25: =SUM(I26:I28) -> 0 | J25: =SUM(J26:J28) -> 0 | K25: =SUM(K26:K28) -> 0 | L25: =SUM(L26:L28) -> 0 | M25: =SUM(M26:M28) -> 0 | N25: =SUM(N26:N28) -> 0 | ... FO25: =SUM(FO26:FO28) -> 0
B26: Lot 1 | D26: =SUM(G26:FO26) -> 472.47396 | G26: =(Schedule!F83*'Assumptions&Data'!F60)/10^$D$5 -> 0 | H26: =(Schedule!G83*'Assumptions&Data'!G60)/10^$D$5 -> 0 | I26: =(Schedule!H83*'Assumptions&Data'!H60)/10^$D$5 -> 0 | J26: =(Schedule!I83*'Assumptions&Data'!I60)/10^$D$5 -> 0 | K26: =(Schedule!J83*'Assumptions&Data'!J60)/10^$D$5 -> 0 | L26: =(Schedule!K83*'Assumptions&Data'!K60)/10^$D$5 -> 0 | M26: =(Schedule!L83*'Assumptions&Data'!L60)/10^$D$5 -> 0 | N26: =(Schedule!M83*'Assumptions&Data'!M60)/10^$D$5 -> 0 | ... FO26: =(Schedule!FN83*'Assumptions&Data'!FN60)/10^$D$5 -> 0
B27: Lot 2 | D27: =SUM(G27:FO27) -> 566.96875 | G27: =(Schedule!F84*'Assumptions&Data'!F60)/10^$D$5 -> 0 | H27: =(Schedule!G84*'Assumptions&Data'!G60)/10^$D$5 -> 0 | I27: =(Schedule!H84*'Assumptions&Data'!H60)/10^$D$5 -> 0 | J27: =(Schedule!I84*'Assumptions&Data'!I60)/10^$D$5 -> 0 | K27: =(Schedule!J84*'Assumptions&Data'!J60)/10^$D$5 -> 0 | L27: =(Schedule!K84*'Assumptions&Data'!K60)/10^$D$5 -> 0 | M27: =(Schedule!L84*'Assumptions&Data'!L60)/10^$D$5 -> 0 | N27: =(Schedule!M84*'Assumptions&Data'!M60)/10^$D$5 -> 0 | ... FO27: =(Schedule!FN84*'Assumptions&Data'!FN60)/10^$D$5 -> 0
B28: Lot 3 | D28: =SUM(G28:FO28) -> 850.45313 | G28: =(Schedule!F85*'Assumptions&Data'!F60)/10^$D$5 -> 0 | H28: =(Schedule!G85*'Assumptions&Data'!G60)/10^$D$5 -> 0 | I28: =(Schedule!H85*'Assumptions&Data'!H60)/10^$D$5 -> 0 | J28: =(Schedule!I85*'Assumptions&Data'!I60)/10^$D$5 -> 0 | K28: =(Schedule!J85*'Assumptions&Data'!J60)/10^$D$5 -> 0 | L28: =(Schedule!K85*'Assumptions&Data'!K60)/10^$D$5 -> 0 | M28: =(Schedule!L85*'Assumptions&Data'!L60)/10^$D$5 -> 0 | N28: =(Schedule!M85*'Assumptions&Data'!M60)/10^$D$5 -> 0 | ... FO28: =(Schedule!FN85*'Assumptions&Data'!FN60)/10^$D$5 -> 0
B30: Retail | C30: =IF($D$5=7, "INR Cr", "INR Mn") -> INR Cr | D30: =SUM(G30:FO30) -> 162.15603 | G30: =SUM(G31:G33) -> 0 | H30: =SUM(H31:H33) -> 0 | I30: =SUM(I31:I33) -> 0 | J30: =SUM(J31:J33) -> 0 | K30: =SUM(K31:K33) -> 0 | L30: =SUM(L31:L33) -> 0 | M30: =SUM(M31:M33) -> 0 | N30: =SUM(N31:N33) -> 0 | ... FO30: =SUM(FO31:FO33) -> 0
B31: Lot 1 | D31: =SUM(G31:FO31) -> 40.539007 | G31: =(Schedule!F88*'Assumptions&Data'!F61)/10^$D$5 -> 0 | H31: =(Schedule!G88*'Assumptions&Data'!G61)/10^$D$5 -> 0 | I31: =(Schedule!H88*'Assumptions&Data'!H61)/10^$D$5 -> 0 | J31: =(Schedule!I88*'Assumptions&Data'!I61)/10^$D$5 -> 0 | K31: =(Schedule!J88*'Assumptions&Data'!J61)/10^$D$5 -> 0 | L31: =(Schedule!K88*'Assumptions&Data'!K61)/10^$D$5 -> 0 | M31: =(Schedule!L88*'Assumptions&Data'!L61)/10^$D$5 -> 0 | N31: =(Schedule!M88*'Assumptions&Data'!M61)/10^$D$5 -> 0 | ... FO31: =(Schedule!FN88*'Assumptions&Data'!FN61)/10^$D$5 -> 0
B32: Lot 2 | D32: =SUM(G32:FO32) -> 48.646808 | G32: =(Schedule!F89*'Assumptions&Data'!F61)/10^$D$5 -> 0 | H32: =(Schedule!G89*'Assumptions&Data'!G61)/10^$D$5 -> 0 | I32: =(Schedule!H89*'Assumptions&Data'!H61)/10^$D$5 -> 0 | J32: =(Schedule!I89*'Assumptions&Data'!I61)/10^$D$5 -> 0 | K32: =(Schedule!J89*'Assumptions&Data'!J61)/10^$D$5 -> 0 | L32: =(Schedule!K89*'Assumptions&Data'!K61)/10^$D$5 -> 0 | M32: =(Schedule!L89*'Assumptions&Data'!L61)/10^$D$5 -> 0 | N32: =(Schedule!M89*'Assumptions&Data'!M61)/10^$D$5 -> 0 | ... FO32: =(Schedule!FN89*'Assumptions&Data'!FN61)/10^$D$5 -> 0
B33: Lot 3 | D33: =SUM(G33:FO33) -> 72.970213 | G33: =(Schedule!F90*'Assumptions&Data'!F61)/10^$D$5 -> 0 | H33: =(Schedule!G90*'Assumptions&Data'!G61)/10^$D$5 -> 0 | I33: =(Schedule!H90*'Assumptions&Data'!H61)/10^$D$5 -> 0 | J33: =(Schedule!I90*'Assumptions&Data'!I61)/10^$D$5 -> 0 | K33: =(Schedule!J90*'Assumptions&Data'!J61)/10^$D$5 -> 0 | L33: =(Schedule!K90*'Assumptions&Data'!K61)/10^$D$5 -> 0 | M33: =(Schedule!L90*'Assumptions&Data'!L61)/10^$D$5 -> 0 | N33: =(Schedule!M90*'Assumptions&Data'!M61)/10^$D$5 -> 0 | ... FO33: =(Schedule!FN90*'Assumptions&Data'!FN61)/10^$D$5 -> 0
B35: Commercial - NILP | C35: =IF($D$5=7, "INR Cr", "INR Mn") -> INR Cr | D35: =SUM(G35:FO35) -> 483.41557 | G35: =SUM(G36:G38) -> 0 | H35: =SUM(H36:H38) -> 0 | I35: =SUM(I36:I38) -> 0 | J35: =SUM(J36:J38) -> 0 | K35: =SUM(K36:K38) -> 0 | L35: =SUM(L36:L38) -> 0 | M35: =SUM(M36:M38) -> 0 | N35: =SUM(N36:N38) -> 0 | ... FO35: =SUM(FO36:FO38) -> 0
B36: Lot 1 | D36: =SUM(G36:FO36) -> 120.85389 | G36: =(Schedule!F93*'Assumptions&Data'!F66)/10^$D$5 -> 0 | H36: =(Schedule!G93*'Assumptions&Data'!G66)/10^$D$5 -> 0 | I36: =(Schedule!H93*'Assumptions&Data'!H66)/10^$D$5 -> 0 | J36: =(Schedule!I93*'Assumptions&Data'!I66)/10^$D$5 -> 0 | K36: =(Schedule!J93*'Assumptions&Data'!J66)/10^$D$5 -> 0 | L36: =(Schedule!K93*'Assumptions&Data'!K66)/10^$D$5 -> 0 | M36: =(Schedule!L93*'Assumptions&Data'!L66)/10^$D$5 -> 0 | N36: =(Schedule!M93*'Assumptions&Data'!M66)/10^$D$5 -> 0 | ... FO36: =(Schedule!FN93*'Assumptions&Data'!FN66)/10^$D$5 -> 0
B37: Lot 2 | D37: =SUM(G37:FO37) -> 145.02467 | G37: =(Schedule!F94*'Assumptions&Data'!F66)/10^$D$5 -> 0 | H37: =(Schedule!G94*'Assumptions&Data'!G66)/10^$D$5 -> 0 | I37: =(Schedule!H94*'Assumptions&Data'!H66)/10^$D$5 -> 0 | J37: =(Schedule!I94*'Assumptions&Data'!I66)/10^$D$5 -> 0 | K37: =(Schedule!J94*'Assumptions&Data'!J66)/10^$D$5 -> 0 | L37: =(Schedule!K94*'Assumptions&Data'!K66)/10^$D$5 -> 0 | M37: =(Schedule!L94*'Assumptions&Data'!L66)/10^$D$5 -> 0 | N37: =(Schedule!M94*'Assumptions&Data'!M66)/10^$D$5 -> 0 | ... FO37: =(Schedule!FN94*'Assumptions&Data'!FN66)/10^$D$5 -> 0
B38: Lot 3 | D38: =SUM(G38:FO38) -> 217.53701 | G38: =(Schedule!F95*'Assumptions&Data'!F66)/10^$D$5 -> 0 | H38: =(Schedule!G95*'Assumptions&Data'!G66)/10^$D$5 -> 0 | I38: =(Schedule!H95*'Assumptions&Data'!H66)/10^$D$5 -> 0 | J38: =(Schedule!I95*'Assumptions&Data'!I66)/10^$D$5 -> 0 | K38: =(Schedule!J95*'Assumptions&Data'!J66)/10^$D$5 -> 0 | L38: =(Schedule!K95*'Assumptions&Data'!K66)/10^$D$5 -> 0 | M38: =(Schedule!L95*'Assumptions&Data'!L66)/10^$D$5 -> 0 | N38: =(Schedule!M95*'Assumptions&Data'!M66)/10^$D$5 -> 0 | ... FO38: =(Schedule!FN95*'Assumptions&Data'!FN66)/10^$D$5 -> 0
B40: Commercial - TOD | C40: =IF($D$5=7, "INR Cr", "INR Mn") -> INR Cr | D40: =SUM(G40:FO40) -> 1156.1905 | G40: =SUM(G41:G43) -> 0 | H40: =SUM(H41:H43) -> 0 | I40: =SUM(I41:I43) -> 0 | J40: =SUM(J41:J43) -> 0 | K40: =SUM(K41:K43) -> 0 | L40: =SUM(L41:L43) -> 0 | M40: =SUM(M41:M43) -> 0 | N40: =SUM(N41:N43) -> 0 | ... FO40: =SUM(FO41:FO43) -> 0
B41: Lot 1 | D41: =SUM(G41:FO41) -> 289.04763 | G41: =(Schedule!F98*'Assumptions&Data'!F66)/10^$D$5 -> 0 | H41: =(Schedule!G98*'Assumptions&Data'!G66)/10^$D$5 -> 0 | I41: =(Schedule!H98*'Assumptions&Data'!H66)/10^$D$5 -> 0 | J41: =(Schedule!I98*'Assumptions&Data'!I66)/10^$D$5 -> 0 | K41: =(Schedule!J98*'Assumptions&Data'!J66)/10^$D$5 -> 0 | L41: =(Schedule!K98*'Assumptions&Data'!K66)/10^$D$5 -> 0 | M41: =(Schedule!L98*'Assumptions&Data'!L66)/10^$D$5 -> 0 | N41: =(Schedule!M98*'Assumptions&Data'!M66)/10^$D$5 -> 0 | ... FO41: =(Schedule!FN98*'Assumptions&Data'!FN66)/10^$D$5 -> 0
B42: Lot 2 | D42: =SUM(G42:FO42) -> 346.85715 | G42: =(Schedule!F99*'Assumptions&Data'!F66)/10^$D$5 -> 0 | H42: =(Schedule!G99*'Assumptions&Data'!G66)/10^$D$5 -> 0 | I42: =(Schedule!H99*'Assumptions&Data'!H66)/10^$D$5 -> 0 | J42: =(Schedule!I99*'Assumptions&Data'!I66)/10^$D$5 -> 0 | K42: =(Schedule!J99*'Assumptions&Data'!J66)/10^$D$5 -> 0 | L42: =(Schedule!K99*'Assumptions&Data'!K66)/10^$D$5 -> 0 | M42: =(Schedule!L99*'Assumptions&Data'!L66)/10^$D$5 -> 0 | N42: =(Schedule!M99*'Assumptions&Data'!M66)/10^$D$5 -> 0 | ... FO42: =(Schedule!FN99*'Assumptions&Data'!FN66)/10^$D$5 -> 0
B43: Lot 3 | D43: =SUM(G43:FO43) -> 520.28573 | G43: =(Schedule!F100*'Assumptions&Data'!F66)/10^$D$5 -> 0 | H43: =(Schedule!G100*'Assumptions&Data'!G66)/10^$D$5 -> 0 | I43: =(Schedule!H100*'Assumptions&Data'!H66)/10^$D$5 -> 0 | J43: =(Schedule!I100*'Assumptions&Data'!I66)/10^$D$5 -> 0 | K43: =(Schedule!J100*'Assumptions&Data'!J66)/10^$D$5 -> 0 | L43: =(Schedule!K100*'Assumptions&Data'!K66)/10^$D$5 -> 0 | M43: =(Schedule!L100*'Assumptions&Data'!L66)/10^$D$5 -> 0 | N43: =(Schedule!M100*'Assumptions&Data'!M66)/10^$D$5 -> 0 | ... FO43: =(Schedule!FN100*'Assumptions&Data'!FN66)/10^$D$5 -> 0
B45: Total Residential Sale | D45: =SUM(G45:FO45) -> 6299.6528 | G45: =G25+G20+G15+G10 -> 0 | H45: =H25+H20+H15+H10 -> 0 | I45: =I25+I20+I15+I10 -> 0 | J45: =J25+J20+J15+J10 -> 0 | K45: =K25+K20+K15+K10 -> 0 | L45: =L25+L20+L15+L10 -> 0 | M45: =M25+M20+M15+M10 -> 0 | N45: =N25+N20+N15+N10 -> 0 | ... FO45: =FO25+FO20+FO15+FO10 -> 0
B47: Total commercial incl. retail | D47: =SUM(G47:FO47) -> 1801.7621 | G47: =G40+G35+G30 -> 0 | H47: =H40+H35+H30 -> 0 | I47: =I40+I35+I30 -> 0 | J47: =J40+J35+J30 -> 0 | K47: =K40+K35+K30 -> 0 | L47: =L40+L35+L30 -> 0 | M47: =M40+M35+M30 -> 0 | N47: =N40+N35+N30 -> 0 | ... FO47: =FO40+FO35+FO30 -> 0
